BEGIN:VCALENDAR
VERSION:2.0
PRODID:-//ilu AG//Austauschtag//DE
CALSCALE:GREGORIAN
METHOD:PUBLISH
BEGIN:VEVENT
UID:austauschtag-1@ilu.ch
DTSTAMP:20260421T180549Z
DTSTART;TZID=Europe/Zurich:20251127T090000
DTEND;TZID=Europe/Zurich:20251127T170000
SUMMARY:Austauschtag
LOCATION:Zürich\, Schweiz
ATTENDEE;CN=Ramon Niederberger;RSVP=TRUE:MAILTO:ramon.niederberger@ilu.ch
ORGANIZER:MAILTO:events@ilu.ch
END:VEVENT
END:VCALENDAR
